BEGIN:VCALENDAR
VERSION:2.0
PRODID:-//TPM Club India - ECPv6.0.8//NONSGML v1.0//EN
CALSCALE:GREGORIAN
METHOD:PUBLISH
X-ORIGINAL-URL:https://tpmclubindia.org
X-WR-CALDESC:Events for TPM Club India
REFRESH-INTERVAL;VALUE=DURATION:PT1H
X-Robots-Tag:noindex
X-PUBLISHED-TTL:PT1H
BEGIN:VTIMEZONE
TZID:Asia/Kolkata
BEGIN:STANDARD
TZOFFSETFROM:+0530
TZOFFSETTO:+0530
TZNAME:IST
DTSTART:20240101T000000
END:STANDARD
END:VTIMEZONE
BEGIN:VEVENT
DTSTART;VALUE=DATE:20241111
DTEND;VALUE=DATE:20241116
DTSTAMP:20260421T173234
CREATED:20240730T095253Z
LAST-MODIFIED:20240730T095253Z
UID:10000037-1731283200-1731715199@tpmclubindia.org
SUMMARY:51st TPM FACILITATORS COURSE
DESCRIPTION:
URL:https://tpmclubindia.org/event/51st-tpm-facilitators-course/
END:VEVENT
BEGIN:VEVENT
DTSTART;VALUE=DATE:20241114
DTEND;VALUE=DATE:20241116
DTSTAMP:20260421T173234
CREATED:20241030T134715Z
LAST-MODIFIED:20241030T134715Z
UID:10000041-1731542400-1731715199@tpmclubindia.org
SUMMARY:Industrial Visits
DESCRIPTION:
URL:https://tpmclubindia.org/event/industrial-visits-2/
END:VEVENT
END:VCALENDAR